BEGIN:VCALENDAR
VERSION:2.0
PRODID:-//The Preacher - ECPv6.15.20//NONSGML v1.0//EN
CALSCALE:GREGORIAN
METHOD:PUBLISH
X-WR-CALNAME:The Preacher
X-ORIGINAL-URL:https://thepreacher.be
X-WR-CALDESC:Evenementen voor The Preacher
REFRESH-INTERVAL;VALUE=DURATION:PT1H
X-Robots-Tag:noindex
X-PUBLISHED-TTL:PT1H
BEGIN:VTIMEZONE
TZID:Europe/Brussels
BEGIN:DAYLIGHT
TZOFFSETFROM:+0100
TZOFFSETTO:+0200
TZNAME:CEST
DTSTART:20240331T010000
END:DAYLIGHT
BEGIN:STANDARD
TZOFFSETFROM:+0200
TZOFFSETTO:+0100
TZNAME:CET
DTSTART:20241027T010000
END:STANDARD
BEGIN:DAYLIGHT
TZOFFSETFROM:+0100
TZOFFSETTO:+0200
TZNAME:CEST
DTSTART:20250330T010000
END:DAYLIGHT
BEGIN:STANDARD
TZOFFSETFROM:+0200
TZOFFSETTO:+0100
TZNAME:CET
DTSTART:20251026T010000
END:STANDARD
BEGIN:DAYLIGHT
TZOFFSETFROM:+0100
TZOFFSETTO:+0200
TZNAME:CEST
DTSTART:20260329T010000
END:DAYLIGHT
BEGIN:STANDARD
TZOFFSETFROM:+0200
TZOFFSETTO:+0100
TZNAME:CET
DTSTART:20261025T010000
END:STANDARD
END:VTIMEZONE
BEGIN:VEVENT
DTSTART;TZID=Europe/Brussels:20250921T140000
DTEND;TZID=Europe/Brussels:20250921T180000
DTSTAMP:20260425T021945
CREATED:20250819T210704Z
LAST-MODIFIED:20250916T121631Z
UID:10000300-1758463200-1758477600@thepreacher.be
SUMMARY:Tentoonstelling 'Annelien Kiekens'
DESCRIPTION:✨ ‘Destillation of The house’ ✨  \n\nKunstwerken uit natuurlijk gekleurd Textiel \n\nBezoekuren: \n– Zaterdag 20/09 van 14u tot 19u \n– Zondag 21/09 van 14u tot 18u
URL:https://thepreacher.be/program/tentoonstelling-annelien-kiekens/2025-09-21/
LOCATION:Peter’s Gallery\, Markt 25\, Geraardsbergen\, Oost-Vlaanderen\, 9500
CATEGORIES:Peter's Gallery
ATTACH;FMTTYPE=image/jpeg:https://thepreacher.be/wp-content/uploads/2025/08/Annelien_TT.jpg
ORGANIZER;CN="Peter's Gallery":MAILTO:info@thepreacher.be
END:VEVENT
BEGIN:VEVENT
DTSTART;TZID=Europe/Brussels:20250920T140000
DTEND;TZID=Europe/Brussels:20250920T190000
DTSTAMP:20260425T021945
CREATED:20250819T220902Z
LAST-MODIFIED:20250916T121800Z
UID:10000313-1758376800-1758394800@thepreacher.be
SUMMARY:Unieke mini-Expo 'Jasna Rok Lab'
DESCRIPTION:✨ ‘At the intersection of EmoTech and FashionTech‘ ✨  \n\nJasna Rok Lab is a Fashion tech pioneer\, a visionair\, a highly valued key note speaker and cross platform creative thinker. \n\nJasna Rok Lab is een speculatief designlab dat werkt op de grenzen van mode\, technologie en wetenschap. Ze passen technologie en wetenschap toe op mode om nieuwe dimensies van menselijke interactie te verkennen. Ze bouwen prototypes om onszelf en anderen beter te begrijpen\, ze creëren nieuwe concepten en inspireren sectoroverschrijdende innovatie. Jasna Rokegem (afkomstig uit Geraardsbergen!) is een bekroonde pionier die innovatieve mode combineert met geavanceerde technologie. Ze richtte ‘Jasna Rok Lab’ op\, het eerste FashionTech designlab in België\, dat is opgericht om geavanceerde technologieën te combineren met interactieve mode en dat doet door samen te werken met technologiepartners wereldwijd. Haar visionaire denkwijze helpt besluitvormers in verschillende sectoren bij het bedenken van duurzamere oplossingen. \nBezoekuren: \n– Zaterdag 13\, 20 en 27/09 van 14u tot 19u \n– Zondag 14\, 21 en 28/09 van 14u tot 18u
URL:https://thepreacher.be/program/unieke-mini-expo-jasnarok/2025-09-20/
LOCATION:Peter’s Gallery\, Markt 25\, Geraardsbergen\, Oost-Vlaanderen\, 9500
CATEGORIES:Peter's Gallery
ATTACH;FMTTYPE=image/jpeg:https://thepreacher.be/wp-content/uploads/2025/08/Jasnarok.jpg
ORGANIZER;CN="Peter's Gallery":MAILTO:info@thepreacher.be
END:VEVENT
BEGIN:VEVENT
DTSTART;TZID=Europe/Brussels:20250920T140000
DTEND;TZID=Europe/Brussels:20250920T190000
DTSTAMP:20260425T021945
CREATED:20250819T215810Z
LAST-MODIFIED:20250916T121644Z
UID:10000305-1758376800-1758394800@thepreacher.be
SUMMARY:Tentoonstelling 'Marie Mees'
DESCRIPTION:✨ ‘Traces and tales of textiles’ ✨  \n\nTijdloze interieur producten met een artistieke meerwaarde \n\nMarie Mees studeerde Toegepaste kunsten aan Sint-Lucas Gent en Grafische vormgeving aan de Koninklijke Academie Gent. Ze werkt sinds 1986 als freelance textiel- en interieurontwerpster. In 1996 kreeg Mees een award Design for Europe tijdens Biënnale Interieur. In 2000 lanceerde ze SimplePlus by Marie Mees\, een collectie bedlinnen en plaids.\nHaar ontwerpbureau Maison Marie Mees – Cathérine Biasino\, opgericht in 2006\, werken als freelancers voor verschillende merken in het binnen- en buitenland.\nZe werkten voor onder andere Esprit\, Descamps\, Casalis\, Chilewich\, Extremis en Gandia Blasco. Ze werkten samen met architecten als Marie-José Van Hee\, Robbrecht & Daem en John Pawson en maakten ontwerpen voor Valerie_objects en Galerie Maniera.\nSinds 2010 werken zij samen onder hun eigen label The Alfred Collection. Hun collectie bestaat voornamelijk uit beddengoed\, tafellinnen\, tapijten en gordijnen in natuurlijke materialen zoals linnen en wol. Hun stijl wordt gekenmerkt door een sober lijnenspel in zachte kleuren en geometrische patronen met sterke lijnen. ELLE Magazine beschreef hun werk als: “tijdloos\, compromisloos\, minimalistisch en duurzaam.”\nBezoekuren: \n– Zaterdag 13\, 20 en 27/09 van 14u tot 19u \n– Zondag 14\, 21 en 28/09 van 14u tot 18u
URL:https://thepreacher.be/program/tentoonstelling-marie-mees/2025-09-20/
LOCATION:Peter’s Gallery\, Markt 25\, Geraardsbergen\, Oost-Vlaanderen\, 9500
CATEGORIES:Peter's Gallery
ATTACH;FMTTYPE=image/jpeg:https://thepreacher.be/wp-content/uploads/2025/08/Marie-Mees.jpg
ORGANIZER;CN="Peter's Gallery":MAILTO:info@thepreacher.be
END:VEVENT
BEGIN:VEVENT
DTSTART;TZID=Europe/Brussels:20250920T140000
DTEND;TZID=Europe/Brussels:20250920T190000
DTSTAMP:20260425T021945
CREATED:20250819T210704Z
LAST-MODIFIED:20250916T121631Z
UID:10000299-1758376800-1758394800@thepreacher.be
SUMMARY:Tentoonstelling 'Annelien Kiekens'
DESCRIPTION:✨ ‘Destillation of The house’ ✨  \n\nKunstwerken uit natuurlijk gekleurd Textiel \n\nBezoekuren: \n– Zaterdag 20/09 van 14u tot 19u \n– Zondag 21/09 van 14u tot 18u
URL:https://thepreacher.be/program/tentoonstelling-annelien-kiekens/2025-09-20/
LOCATION:Peter’s Gallery\, Markt 25\, Geraardsbergen\, Oost-Vlaanderen\, 9500
CATEGORIES:Peter's Gallery
ATTACH;FMTTYPE=image/jpeg:https://thepreacher.be/wp-content/uploads/2025/08/Annelien_TT.jpg
ORGANIZER;CN="Peter's Gallery":MAILTO:info@thepreacher.be
END:VEVENT
BEGIN:VEVENT
DTSTART;TZID=Europe/Brussels:20250920T090000
DTEND;TZID=Europe/Brussels:20250920T123000
DTSTAMP:20260425T021945
CREATED:20250813T073629Z
LAST-MODIFIED:20250916T121618Z
UID:10000293-1758358800-1758371400@thepreacher.be
SUMMARY:Initiatieles 'Textiel' ism kunstacademie Geraardsbergen
DESCRIPTION:✨ Aan de slag met Textiel! ✨ @Peter’s Gallery olv docente Sofie De Ville \nNeem vrijblijvend deel aan een initiatieles van docente Sofie De Ville. Zij stelt haar eerste les ‘Textiel’ van dit schooljaar open voor het publiek en deze kan jij bijwonen! \nLesmomenten:\n– Donderdag 18/09 van 13u30 tot 17u\n– Zaterdag 20/09 van 9u tot 12u30\n– Donderdag 25/09 van 13u30 tot 17u\n– Zaterdag 27/09 van 9u tot 12u30\n* Ervaring is niet vereist\, enkel zin om creatief aan de slag te gaan! \n* Alle materialen worden voorzien\, maar breng gerust eigen materiaal mee dat je wilt verwerken. \n* GRATIS toegang\, maar laat even weten of je aanwezig zou zijn met de ‘knop’ hieronder.
URL:https://thepreacher.be/program/initiatieles-textiel-ism-kunstacademie-geraardsbergen/2025-09-20/
LOCATION:Peter’s Gallery\, Markt 25\, Geraardsbergen\, Oost-Vlaanderen\, 9500
CATEGORIES:Peter's Gallery,Workshops
ATTACH;FMTTYPE=image/jpeg:https://thepreacher.be/wp-content/uploads/2025/08/Initiatieles-Textiel.jpg
ORGANIZER;CN="Peter's Gallery":MAILTO:info@thepreacher.be
END:VEVENT
BEGIN:VEVENT
DTSTART;TZID=Europe/Brussels:20250918T133000
DTEND;TZID=Europe/Brussels:20250918T170000
DTSTAMP:20260425T021945
CREATED:20250813T073629Z
LAST-MODIFIED:20250916T121618Z
UID:10000279-1758202200-1758214800@thepreacher.be
SUMMARY:Initiatieles 'Textiel' ism kunstacademie Geraardsbergen
DESCRIPTION:✨ Aan de slag met Textiel! ✨ @Peter’s Gallery olv docente Sofie De Ville \nNeem vrijblijvend deel aan een initiatieles van docente Sofie De Ville. Zij stelt haar eerste les ‘Textiel’ van dit schooljaar open voor het publiek en deze kan jij bijwonen! \nLesmomenten:\n– Donderdag 18/09 van 13u30 tot 17u\n– Zaterdag 20/09 van 9u tot 12u30\n– Donderdag 25/09 van 13u30 tot 17u\n– Zaterdag 27/09 van 9u tot 12u30\n* Ervaring is niet vereist\, enkel zin om creatief aan de slag te gaan! \n* Alle materialen worden voorzien\, maar breng gerust eigen materiaal mee dat je wilt verwerken. \n* GRATIS toegang\, maar laat even weten of je aanwezig zou zijn met de ‘knop’ hieronder.
URL:https://thepreacher.be/program/initiatieles-textiel-ism-kunstacademie-geraardsbergen/2025-09-18/
LOCATION:Peter’s Gallery\, Markt 25\, Geraardsbergen\, Oost-Vlaanderen\, 9500
CATEGORIES:Peter's Gallery,Workshops
ATTACH;FMTTYPE=image/jpeg:https://thepreacher.be/wp-content/uploads/2025/08/Initiatieles-Textiel.jpg
ORGANIZER;CN="Peter's Gallery":MAILTO:info@thepreacher.be
END:VEVENT
BEGIN:VEVENT
DTSTART;TZID=Europe/Brussels:20250914T150000
DTEND;TZID=Europe/Brussels:20250914T170000
DTSTAMP:20260425T021945
CREATED:20250819T114305Z
LAST-MODIFIED:20250916T121556Z
UID:10000292-1757862000-1757869200@thepreacher.be
SUMMARY:Workshop 'Natuurlijk kleuren van textiel' o.l.v Annelien Kiekens
DESCRIPTION:✨ Workshop ‘Natuurlijk kleuren van textiel’ ✨ @Peter’s Gallery o.l.v. ~Annelien Kiekens~ \nTijdens deze workshop leer je hoe je stoffen kunt verven met natuurlijke materialen\, zoals planten en bloemen. Je leert welke planten hiervoor geschikt zijn\, hoe je de kleuren kunt extraheren en hoe je ze op de stof kunt fixeren. In deze 3 werkmomenten krijg je een theoretische benadering en ga je dit aansluitend toepassen op eigen materialen. \n3 Werkmomenten:\n– zondag 14/9 van 15u tot 17u\n– woensdag 17/9 van 19u tot 21u\n– zondag 21/9 van 15u tot 17u\nBelangrijk: Breng jouw eigen wit natuurlijk textiel (wol\, katoen\, zijde\, linnen) \n* Ervaring is niet vereist\, enkel zin om creatief aan de slag te gaan! \n* Je werkstuk krijg je mee naar huis\, alsook de theoretische cursus. \n* Kostprijs inclusief drankbon cultuurcafé ‘The Preacher’
URL:https://thepreacher.be/program/workshop-natuurlijk-kleuren-van-textiel-o-l-v-annelien-kiekens/
LOCATION:Peter’s Gallery\, Markt 25\, Geraardsbergen\, Oost-Vlaanderen\, 9500
CATEGORIES:Peter's Gallery,Workshops
ATTACH;FMTTYPE=image/jpeg:https://thepreacher.be/wp-content/uploads/2025/08/Annelien-1.jpg
ORGANIZER;CN="Peter's Gallery":MAILTO:info@thepreacher.be
END:VEVENT
BEGIN:VEVENT
DTSTART;TZID=Europe/Brussels:20250914T140000
DTEND;TZID=Europe/Brussels:20250914T180000
DTSTAMP:20260425T021945
CREATED:20250819T220902Z
LAST-MODIFIED:20250916T121800Z
UID:10000312-1757858400-1757872800@thepreacher.be
SUMMARY:Unieke mini-Expo 'Jasna Rok Lab'
DESCRIPTION:✨ ‘At the intersection of EmoTech and FashionTech‘ ✨  \n\nJasna Rok Lab is a Fashion tech pioneer\, a visionair\, a highly valued key note speaker and cross platform creative thinker. \n\nJasna Rok Lab is een speculatief designlab dat werkt op de grenzen van mode\, technologie en wetenschap. Ze passen technologie en wetenschap toe op mode om nieuwe dimensies van menselijke interactie te verkennen. Ze bouwen prototypes om onszelf en anderen beter te begrijpen\, ze creëren nieuwe concepten en inspireren sectoroverschrijdende innovatie. Jasna Rokegem (afkomstig uit Geraardsbergen!) is een bekroonde pionier die innovatieve mode combineert met geavanceerde technologie. Ze richtte ‘Jasna Rok Lab’ op\, het eerste FashionTech designlab in België\, dat is opgericht om geavanceerde technologieën te combineren met interactieve mode en dat doet door samen te werken met technologiepartners wereldwijd. Haar visionaire denkwijze helpt besluitvormers in verschillende sectoren bij het bedenken van duurzamere oplossingen. \nBezoekuren: \n– Zaterdag 13\, 20 en 27/09 van 14u tot 19u \n– Zondag 14\, 21 en 28/09 van 14u tot 18u
URL:https://thepreacher.be/program/unieke-mini-expo-jasnarok/2025-09-14/
LOCATION:Peter’s Gallery\, Markt 25\, Geraardsbergen\, Oost-Vlaanderen\, 9500
CATEGORIES:Peter's Gallery
ATTACH;FMTTYPE=image/jpeg:https://thepreacher.be/wp-content/uploads/2025/08/Jasnarok.jpg
ORGANIZER;CN="Peter's Gallery":MAILTO:info@thepreacher.be
END:VEVENT
BEGIN:VEVENT
DTSTART;TZID=Europe/Brussels:20250914T140000
DTEND;TZID=Europe/Brussels:20250914T180000
DTSTAMP:20260425T021945
CREATED:20250819T215810Z
LAST-MODIFIED:20250916T121644Z
UID:10000308-1757858400-1757872800@thepreacher.be
SUMMARY:Tentoonstelling 'Marie Mees'
DESCRIPTION:✨ ‘Traces and tales of textiles’ ✨  \n\nTijdloze interieur producten met een artistieke meerwaarde \n\nMarie Mees studeerde Toegepaste kunsten aan Sint-Lucas Gent en Grafische vormgeving aan de Koninklijke Academie Gent. Ze werkt sinds 1986 als freelance textiel- en interieurontwerpster. In 1996 kreeg Mees een award Design for Europe tijdens Biënnale Interieur. In 2000 lanceerde ze SimplePlus by Marie Mees\, een collectie bedlinnen en plaids.\nHaar ontwerpbureau Maison Marie Mees – Cathérine Biasino\, opgericht in 2006\, werken als freelancers voor verschillende merken in het binnen- en buitenland.\nZe werkten voor onder andere Esprit\, Descamps\, Casalis\, Chilewich\, Extremis en Gandia Blasco. Ze werkten samen met architecten als Marie-José Van Hee\, Robbrecht & Daem en John Pawson en maakten ontwerpen voor Valerie_objects en Galerie Maniera.\nSinds 2010 werken zij samen onder hun eigen label The Alfred Collection. Hun collectie bestaat voornamelijk uit beddengoed\, tafellinnen\, tapijten en gordijnen in natuurlijke materialen zoals linnen en wol. Hun stijl wordt gekenmerkt door een sober lijnenspel in zachte kleuren en geometrische patronen met sterke lijnen. ELLE Magazine beschreef hun werk als: “tijdloos\, compromisloos\, minimalistisch en duurzaam.”\nBezoekuren: \n– Zaterdag 13\, 20 en 27/09 van 14u tot 19u \n– Zondag 14\, 21 en 28/09 van 14u tot 18u
URL:https://thepreacher.be/program/tentoonstelling-marie-mees/2025-09-14/
LOCATION:Peter’s Gallery\, Markt 25\, Geraardsbergen\, Oost-Vlaanderen\, 9500
CATEGORIES:Peter's Gallery
ATTACH;FMTTYPE=image/jpeg:https://thepreacher.be/wp-content/uploads/2025/08/Marie-Mees.jpg
ORGANIZER;CN="Peter's Gallery":MAILTO:info@thepreacher.be
END:VEVENT
BEGIN:VEVENT
DTSTART;TZID=Europe/Brussels:20250913T140000
DTEND;TZID=Europe/Brussels:20250913T190000
DTSTAMP:20260425T021945
CREATED:20250819T220902Z
LAST-MODIFIED:20250916T121800Z
UID:10000311-1757772000-1757790000@thepreacher.be
SUMMARY:Unieke mini-Expo 'Jasna Rok Lab'
DESCRIPTION:✨ ‘At the intersection of EmoTech and FashionTech‘ ✨  \n\nJasna Rok Lab is a Fashion tech pioneer\, a visionair\, a highly valued key note speaker and cross platform creative thinker. \n\nJasna Rok Lab is een speculatief designlab dat werkt op de grenzen van mode\, technologie en wetenschap. Ze passen technologie en wetenschap toe op mode om nieuwe dimensies van menselijke interactie te verkennen. Ze bouwen prototypes om onszelf en anderen beter te begrijpen\, ze creëren nieuwe concepten en inspireren sectoroverschrijdende innovatie. Jasna Rokegem (afkomstig uit Geraardsbergen!) is een bekroonde pionier die innovatieve mode combineert met geavanceerde technologie. Ze richtte ‘Jasna Rok Lab’ op\, het eerste FashionTech designlab in België\, dat is opgericht om geavanceerde technologieën te combineren met interactieve mode en dat doet door samen te werken met technologiepartners wereldwijd. Haar visionaire denkwijze helpt besluitvormers in verschillende sectoren bij het bedenken van duurzamere oplossingen. \nBezoekuren: \n– Zaterdag 13\, 20 en 27/09 van 14u tot 19u \n– Zondag 14\, 21 en 28/09 van 14u tot 18u
URL:https://thepreacher.be/program/unieke-mini-expo-jasnarok/2025-09-13/
LOCATION:Peter’s Gallery\, Markt 25\, Geraardsbergen\, Oost-Vlaanderen\, 9500
CATEGORIES:Peter's Gallery
ATTACH;FMTTYPE=image/jpeg:https://thepreacher.be/wp-content/uploads/2025/08/Jasnarok.jpg
ORGANIZER;CN="Peter's Gallery":MAILTO:info@thepreacher.be
END:VEVENT
BEGIN:VEVENT
DTSTART;TZID=Europe/Brussels:20250913T140000
DTEND;TZID=Europe/Brussels:20250913T190000
DTSTAMP:20260425T021945
CREATED:20250819T215810Z
LAST-MODIFIED:20250916T121644Z
UID:10000307-1757772000-1757790000@thepreacher.be
SUMMARY:Tentoonstelling 'Marie Mees'
DESCRIPTION:✨ ‘Traces and tales of textiles’ ✨  \n\nTijdloze interieur producten met een artistieke meerwaarde \n\nMarie Mees studeerde Toegepaste kunsten aan Sint-Lucas Gent en Grafische vormgeving aan de Koninklijke Academie Gent. Ze werkt sinds 1986 als freelance textiel- en interieurontwerpster. In 1996 kreeg Mees een award Design for Europe tijdens Biënnale Interieur. In 2000 lanceerde ze SimplePlus by Marie Mees\, een collectie bedlinnen en plaids.\nHaar ontwerpbureau Maison Marie Mees – Cathérine Biasino\, opgericht in 2006\, werken als freelancers voor verschillende merken in het binnen- en buitenland.\nZe werkten voor onder andere Esprit\, Descamps\, Casalis\, Chilewich\, Extremis en Gandia Blasco. Ze werkten samen met architecten als Marie-José Van Hee\, Robbrecht & Daem en John Pawson en maakten ontwerpen voor Valerie_objects en Galerie Maniera.\nSinds 2010 werken zij samen onder hun eigen label The Alfred Collection. Hun collectie bestaat voornamelijk uit beddengoed\, tafellinnen\, tapijten en gordijnen in natuurlijke materialen zoals linnen en wol. Hun stijl wordt gekenmerkt door een sober lijnenspel in zachte kleuren en geometrische patronen met sterke lijnen. ELLE Magazine beschreef hun werk als: “tijdloos\, compromisloos\, minimalistisch en duurzaam.”\nBezoekuren: \n– Zaterdag 13\, 20 en 27/09 van 14u tot 19u \n– Zondag 14\, 21 en 28/09 van 14u tot 18u
URL:https://thepreacher.be/program/tentoonstelling-marie-mees/2025-09-13/
LOCATION:Peter’s Gallery\, Markt 25\, Geraardsbergen\, Oost-Vlaanderen\, 9500
CATEGORIES:Peter's Gallery
ATTACH;FMTTYPE=image/jpeg:https://thepreacher.be/wp-content/uploads/2025/08/Marie-Mees.jpg
ORGANIZER;CN="Peter's Gallery":MAILTO:info@thepreacher.be
END:VEVENT
BEGIN:VEVENT
DTSTART;TZID=Europe/Brussels:20250825T090000
DTEND;TZID=Europe/Brussels:20250825T120000
DTSTAMP:20260425T021945
CREATED:20250813T071716Z
LAST-MODIFIED:20250820T002130Z
UID:10000288-1756112400-1756123200@thepreacher.be
SUMMARY:Expo '510 jaar Processie van Plaissance'
DESCRIPTION:✨ Unieke expo ‘510 jaar Processie van Plaissance’ ✨ @Peter’s Gallery ism de stad Geraardsbergen \nIn het kader van 510 jaar Plaisance schenkt de Broederschap van de H. Bartholomeus op 17 augustus een plunje aan Manneken Pis. Tegelijk opent er een unieke expo rond de processie. Divers beeldmateriaal\, muzikale ondersteuning door Cecilia\, een verzameling van Manneke-Pisbeeldjes\, … noem maar op. Kom langs en ontdek een huldiging aan de historie onze de stad Geraardsbergen. \nExpo-momenten: \n– Vrijdag 22/08 van 18u tot 21u \n– Zaterdag 23/08 van 10u tot 18u \n– Maandag 25/08 van 9u tot 12u
URL:https://thepreacher.be/program/expo-510-jaar-processie-van-plaissance/2025-08-25/
LOCATION:Peter’s Gallery\, Markt 25\, Geraardsbergen\, Oost-Vlaanderen\, 9500
CATEGORIES:Peter's Gallery
ATTACH;FMTTYPE=image/jpeg:https://thepreacher.be/wp-content/uploads/2025/08/Processie.jpg
END:VEVENT
BEGIN:VEVENT
DTSTART;TZID=Europe/Brussels:20250823T100000
DTEND;TZID=Europe/Brussels:20250823T180000
DTSTAMP:20260425T021945
CREATED:20250813T071716Z
LAST-MODIFIED:20250820T002130Z
UID:10000287-1755943200-1755972000@thepreacher.be
SUMMARY:Expo '510 jaar Processie van Plaissance'
DESCRIPTION:✨ Unieke expo ‘510 jaar Processie van Plaissance’ ✨ @Peter’s Gallery ism de stad Geraardsbergen \nIn het kader van 510 jaar Plaisance schenkt de Broederschap van de H. Bartholomeus op 17 augustus een plunje aan Manneken Pis. Tegelijk opent er een unieke expo rond de processie. Divers beeldmateriaal\, muzikale ondersteuning door Cecilia\, een verzameling van Manneke-Pisbeeldjes\, … noem maar op. Kom langs en ontdek een huldiging aan de historie onze de stad Geraardsbergen. \nExpo-momenten: \n– Vrijdag 22/08 van 18u tot 21u \n– Zaterdag 23/08 van 10u tot 18u \n– Maandag 25/08 van 9u tot 12u
URL:https://thepreacher.be/program/expo-510-jaar-processie-van-plaissance/2025-08-23/
LOCATION:Peter’s Gallery\, Markt 25\, Geraardsbergen\, Oost-Vlaanderen\, 9500
CATEGORIES:Peter's Gallery
ATTACH;FMTTYPE=image/jpeg:https://thepreacher.be/wp-content/uploads/2025/08/Processie.jpg
END:VEVENT
BEGIN:VEVENT
DTSTART;TZID=Europe/Brussels:20250822T180000
DTEND;TZID=Europe/Brussels:20250822T210000
DTSTAMP:20260425T021945
CREATED:20250813T071716Z
LAST-MODIFIED:20250820T002130Z
UID:10000278-1755885600-1755896400@thepreacher.be
SUMMARY:Expo '510 jaar Processie van Plaissance'
DESCRIPTION:✨ Unieke expo ‘510 jaar Processie van Plaissance’ ✨ @Peter’s Gallery ism de stad Geraardsbergen \nIn het kader van 510 jaar Plaisance schenkt de Broederschap van de H. Bartholomeus op 17 augustus een plunje aan Manneken Pis. Tegelijk opent er een unieke expo rond de processie. Divers beeldmateriaal\, muzikale ondersteuning door Cecilia\, een verzameling van Manneke-Pisbeeldjes\, … noem maar op. Kom langs en ontdek een huldiging aan de historie onze de stad Geraardsbergen. \nExpo-momenten: \n– Vrijdag 22/08 van 18u tot 21u \n– Zaterdag 23/08 van 10u tot 18u \n– Maandag 25/08 van 9u tot 12u
URL:https://thepreacher.be/program/expo-510-jaar-processie-van-plaissance/2025-08-22/
LOCATION:Peter’s Gallery\, Markt 25\, Geraardsbergen\, Oost-Vlaanderen\, 9500
CATEGORIES:Peter's Gallery
ATTACH;FMTTYPE=image/jpeg:https://thepreacher.be/wp-content/uploads/2025/08/Processie.jpg
END:VEVENT
END:VCALENDAR