BEGIN:VCALENDAR
VERSION:2.0
PRODID:-//The Preacher - ECPv6.15.20//NONSGML v1.0//EN
CALSCALE:GREGORIAN
METHOD:PUBLISH
X-WR-CALNAME:The Preacher
X-ORIGINAL-URL:https://thepreacher.be
X-WR-CALDESC:Evenementen voor The Preacher
REFRESH-INTERVAL;VALUE=DURATION:PT1H
X-Robots-Tag:noindex
X-PUBLISHED-TTL:PT1H
BEGIN:VTIMEZONE
TZID:Europe/Brussels
BEGIN:DAYLIGHT
TZOFFSETFROM:+0100
TZOFFSETTO:+0200
TZNAME:CEST
DTSTART:20250330T010000
END:DAYLIGHT
BEGIN:STANDARD
TZOFFSETFROM:+0200
TZOFFSETTO:+0100
TZNAME:CET
DTSTART:20251026T010000
END:STANDARD
BEGIN:DAYLIGHT
TZOFFSETFROM:+0100
TZOFFSETTO:+0200
TZNAME:CEST
DTSTART:20260329T010000
END:DAYLIGHT
BEGIN:STANDARD
TZOFFSETFROM:+0200
TZOFFSETTO:+0100
TZNAME:CET
DTSTART:20261025T010000
END:STANDARD
BEGIN:DAYLIGHT
TZOFFSETFROM:+0100
TZOFFSETTO:+0200
TZNAME:CEST
DTSTART:20270328T010000
END:DAYLIGHT
BEGIN:STANDARD
TZOFFSETFROM:+0200
TZOFFSETTO:+0100
TZNAME:CET
DTSTART:20271031T010000
END:STANDARD
END:VTIMEZONE
BEGIN:VEVENT
DTSTART;TZID=Europe/Brussels:20260905T150000
DTEND;TZID=Europe/Brussels:20260905T180000
DTSTAMP:20260424T172858
CREATED:20260421T104605Z
LAST-MODIFIED:20260421T131329Z
UID:10000485-1788620400-1788631200@thepreacher.be
SUMMARY:Expo: De Zwarte Kant van Geraardsbergen i.s.m. Ingrid Lewyllie
DESCRIPTION:Geraardsbergen staat historisch bekend om zijn hoogwaardige\, zwarte zijden Chantillykant (18e-19e eeuw). Deze fijne kant\, vaak gebruikt voor sjaals en kleding. In de 19e eeuw was Geraardsbergen een internationaal centrum voor deze kantsoort\, die vaak via Parijs en Rijsel werd verhandeld. \nIn 1783 onderwezen de Benedictinessen van Hunnegem verschillende soorten handwerk: breien\, naaien\, mazen\, borduren en kant. Uit de volkstelling van 1812 leren we dat Geraardsbergen een kanthandelaar (Ghislain van Crombrugghe) en 130 kantwerksters rijk is. \n\nVia Caen en Bayeux\, waaide die begin 19de eeuw over naar Geraardsbergen\, waar ze dankzij de toen heersende mode een groot succes kende. Chantillykant klost men voornamelijk met zwarte zijde. De motieven in halve slag geklost\, worden omlijnd door een dikkere sierdraad\, omringd door zeshoekige tralies. De tekeningen bestaan meestal uit bloemenruikers\, versierd met allerlei sierlijke arcades. De kantwerken dienden onder andere als versiering van corsages en hoofddeksels\, kragen\, stola’s\, sluiers en zelfs gehele kledingstukken. Deze grote oppervlakken (3 tot 4 meter) bestaan uit verschillende kleine stroken die met een bijna onzichtbare steek aan elkaar gelast worden. \n\n\nIn 1880 telde Geraardsbergen nog maar 700 kantwerksters. Onder impuls van Prinses Elisabeth poogde men in 1905 een nieuwe start. Niets kon echter nog baten. In 1912 bleven 8 fabrikanten over. In 1914 kwamen onbetaalde verzendingen naar Amerika terug. Tijdens de Eerste Wereldoorlog kende de Chantilly kantnijverheid nog een kortstondige opflakkering. De kant die toen geklost werd noemt men “War Laces” of oorlogskant. In 1926 stelde Cattelain nog slechts een honderdtal vrouwen te werk. Nog tot 1932 voerde men Geraardsbergse kant uit. \nDATA: \n\nOpening: Vrijdag 04/09 tussen 19u-22u\nElke Zaterdag in september: 15u-18u\nElke Zondag in september: 11u-17u\n\n– GRATIS TOEGANG –
URL:https://thepreacher.be/program/de-zwarte-kant-van-geraardsbergen/2026-09-05/
LOCATION:Peter’s Gallery\, Markt 25\, Geraardsbergen\, Oost-Vlaanderen\, 9500
CATEGORIES:Peter's Gallery
ATTACH;FMTTYPE=image/jpeg:https://thepreacher.be/wp-content/uploads/2026/04/zwarte-kant.jpg
ORGANIZER;CN="Peter's Gallery":MAILTO:info@thepreacher.be
END:VEVENT
END:VCALENDAR