BEGIN:VCALENDAR
VERSION:2.0
PRODID:-//The Preacher - ECPv6.15.20//NONSGML v1.0//EN
CALSCALE:GREGORIAN
METHOD:PUBLISH
X-ORIGINAL-URL:https://thepreacher.be
X-WR-CALDESC:Evenementen voor The Preacher
REFRESH-INTERVAL;VALUE=DURATION:PT1H
X-Robots-Tag:noindex
X-PUBLISHED-TTL:PT1H
BEGIN:VTIMEZONE
TZID:Europe/Brussels
BEGIN:DAYLIGHT
TZOFFSETFROM:+0100
TZOFFSETTO:+0200
TZNAME:CEST
DTSTART:20250330T010000
END:DAYLIGHT
BEGIN:STANDARD
TZOFFSETFROM:+0200
TZOFFSETTO:+0100
TZNAME:CET
DTSTART:20251026T010000
END:STANDARD
BEGIN:DAYLIGHT
TZOFFSETFROM:+0100
TZOFFSETTO:+0200
TZNAME:CEST
DTSTART:20260329T010000
END:DAYLIGHT
BEGIN:STANDARD
TZOFFSETFROM:+0200
TZOFFSETTO:+0100
TZNAME:CET
DTSTART:20261025T010000
END:STANDARD
BEGIN:DAYLIGHT
TZOFFSETFROM:+0100
TZOFFSETTO:+0200
TZNAME:CEST
DTSTART:20270328T010000
END:DAYLIGHT
BEGIN:STANDARD
TZOFFSETFROM:+0200
TZOFFSETTO:+0100
TZNAME:CET
DTSTART:20271031T010000
END:STANDARD
END:VTIMEZONE
BEGIN:VEVENT
DTSTART;TZID=Europe/Brussels:20260530T150000
DTEND;TZID=Europe/Brussels:20260530T180000
DTSTAMP:20260424T173047
CREATED:20260421T082945Z
LAST-MODIFIED:20260421T131245Z
UID:10000471-1780153200-1780164000@thepreacher.be
SUMMARY:Expositie Conrad Willems
DESCRIPTION:– Geometry\, repetition and modularity are three basic principles in all of my works\, resulting in a visual language that is highly recognisable. –\n\nConrad Willems (°1983) his SCULPTURES share the same basic principles. Earlier works explored simple geometric shapes\, blurred or emphasised by adding light. Later sculptural works are constructed with freestanding pieces. These modular installations are often constructed live. The building process thus becomes a performance\, the resulting construction an installation work. My latest installations are made with natural stone building blocks\, referring more and more to sculptures in a more classical sense. – The interpretations of the works are left to the viewer. – \n\n\nThe DRAWINGS show the repetition of figures\, varying in shapes and sizes. They are made with freehand and without a predetermined plan: every drawn line is a permanent one. This method of freehand repetition generates patterns\, disturbed by imperfections in the repetition process. Some earlier drawings are reminiscent of cities or minimal urban landscapes. There are however only shapes\, no buildings. The form denies any function. In more recent work\, the repetition pattern becomes more and more flawed. Ultimately\, each shape is a new one. In my latest work I layer several drawings over each other\, blurring recognisable shapes\, then adding new ones. Some of my drawings are a collaboration with my father\, a way of communicating with each other. \n\nDATA: \n\nOpening: Vrijdag 01/05 tussen 19u-22u\nElke Zaterdag in mei: 15u-18u\nElke Zondag in mei: 11u-17u\n\n– GRATIS TOEGANG –
URL:https://thepreacher.be/program/expositie-conrad-willems/2026-05-30/
LOCATION:Peter’s Gallery\, Markt 25\, Geraardsbergen\, Oost-Vlaanderen\, 9500
CATEGORIES:Peter's Gallery
ATTACH;FMTTYPE=image/jpeg:https://thepreacher.be/wp-content/uploads/2026/04/Conrad.jpg
ORGANIZER;CN="Peter's Gallery":MAILTO:info@thepreacher.be
END:VEVENT
BEGIN:VEVENT
DTSTART;TZID=Europe/Brussels:20260531T110000
DTEND;TZID=Europe/Brussels:20260531T170000
DTSTAMP:20260424T173047
CREATED:20260421T083825Z
LAST-MODIFIED:20260421T131227Z
UID:10000482-1780225200-1780246800@thepreacher.be
SUMMARY:Expositie Conrad Willems
DESCRIPTION:– Geometry\, repetition and modularity are three basic principles in all of my works\, resulting in a visual language that is highly recognisable. –\n\nConrad Willems (°1983) his SCULPTURES share the same basic principles. Earlier works explored simple geometric shapes\, blurred or emphasised by adding light. Later sculptural works are constructed with freestanding pieces. These modular installations are often constructed live. The building process thus becomes a performance\, the resulting construction an installation work. My latest installations are made with natural stone building blocks\, referring more and more to sculptures in a more classical sense. – The interpretations of the works are left to the viewer. – \n\n\nThe DRAWINGS show the repetition of figures\, varying in shapes and sizes. They are made with freehand and without a predetermined plan: every drawn line is a permanent one. This method of freehand repetition generates patterns\, disturbed by imperfections in the repetition process. Some earlier drawings are reminiscent of cities or minimal urban landscapes. There are however only shapes\, no buildings. The form denies any function. In more recent work\, the repetition pattern becomes more and more flawed. Ultimately\, each shape is a new one. In my latest work I layer several drawings over each other\, blurring recognisable shapes\, then adding new ones. Some of my drawings are a collaboration with my father\, a way of communicating with each other. \n\nDATA: \n\nOpening: Vrijdag 01/05 tussen 19u-22u\nElke Zaterdag in mei: 15u-18u\nElke Zondag in mei: 11u-17u\n\n– GRATIS TOEGANG –
URL:https://thepreacher.be/program/expositie-conrad-willems-2/2026-05-31/
LOCATION:Peter’s Gallery\, Markt 25\, Geraardsbergen\, Oost-Vlaanderen\, 9500
CATEGORIES:Peter's Gallery
ATTACH;FMTTYPE=image/jpeg:https://thepreacher.be/wp-content/uploads/2026/04/Conrad.jpg
ORGANIZER;CN="Peter's Gallery":MAILTO:info@thepreacher.be
END:VEVENT
END:VCALENDAR